BEGIN:VCALENDAR
VERSION:2.0
PRODID:-//hacksw/handcal//NONSGML v1.0//EN
BEGIN:VEVENT
SUMMARY:CHAMPIONNAT FRANCE BENJAMINES 2026
UID:10672474-e5a0-4d6e-91fb-21803547cca6
DTSTART:20260514T220000Z
DTEND:20260517T220000Z
LOCATION:Localisation   
CATEGORIES:Sportif
STATUS:
DESCRIPTION:<p><span style="font-size:14px;"><strong>Les Championnats
 de France Benjamins-Cadets auront lieu les 15, 16 et 17 mai 2026 au
 Pole Sportif de Saint-Quentin (02) ou les meilleurs benjamins et
 cadets du pays ont rendez-vous pour s’affronter et decrocher les
 precieux titres nationaux de chaque categorie.  Notre joueuse Lyson
 PONCIN est qualifiee en Benjamines. ALLEZ LYSON - ALLEZ
 MONTCY</strong></span></p>
URL;VALUE=URI:https://ppcmontcy.sportsregions.fr/evenements/2026/05/15/championnat-france-benjamines-2026-2442745
END:VEVENT
END:VCALENDAR
