BEGIN:VCALENDAR
VERSION:2.0
PRODID:-//hacksw/handcal//NONSGML v1.0//EN
BEGIN:VEVENT
SUMMARY:J5 GE 3 PPC MONTCY 1 / CHALONS 3
UID:7e23fca1-8f2c-4fc9-bf5b-32259f838bc0
DTSTART:20260509T140000Z
DTEND:20260509T190000Z
LOCATION:Localisation   
CATEGORIES:Sportif
STATUS:
URL;VALUE=URI:https://ppcmontcy.sportsregions.fr/evenements/2026/05/09/j5-ge-3-ppc-montcy-1-chalons-3-2442743
END:VEVENT
END:VCALENDAR
