BEGIN:VCALENDAR
VERSION:2.0
PRODID:-//hacksw/handcal//NONSGML v1.0//EN
BEGIN:VEVENT
SUMMARY:J5 CHAMPIONNAT ARDENNES PAR EQUIPES
UID:1ace8b66-c8c8-4d4c-bce9-9506474dbe93
DTSTART:20260508T180000Z
DTEND:20260508T214500Z
LOCATION:Localisation   
CATEGORIES:Sportif
STATUS:
URL;VALUE=URI:https://ppcmontcy.sportsregions.fr/evenements/2026/05/08/j5-championnat-ardennes-par-equipes-2442741
END:VEVENT
END:VCALENDAR
