BEGIN:VCALENDAR
VERSION:2.0
PRODID:-//hacksw/handcal//NONSGML v1.0//EN
BEGIN:VEVENT
SUMMARY:CHAMPIONNAT FRANCE MINIMES BOURGES
UID:3d583650-9271-4a1a-8bbd-84e5a033acdc
DTSTART:20260430T220000Z
DTEND:20260503T220000Z
LOCATION:Localisation   
CATEGORIES:Sportif
STATUS:
DESCRIPTION:<p><strong><span style="font-size:14px;">Les Championnats
 de France Jeunes rassemblent les espoirs du tennis de table francais,
 des categories benjamins a juniors. Ces Championnats sont
 l’occasion pour les jeunes joueurs de se mesurer aux meilleurs de
 leur generation, de vivre leurs premieres grandes experiences
 sportives, et de faire leurs premiers pas vers le haut niveau.
 </span></strong></p>
 
 <p><strong><span style="font-size:14px;">Notre
 joueuse Lyson PONCIN (Benjamines) est aussi qualifiee en Minimes
 Filles. ALLEZ LYSON - ALLEZ MONTCY !!!</span></strong></p>
URL;VALUE=URI:https://ppcmontcy.sportsregions.fr/evenements/2026/05/01/championnat-france-minimes-bourges-2442740
END:VEVENT
END:VCALENDAR
