BEGIN:VCALENDAR
VERSION:2.0
PRODID:-//hacksw/handcal//NONSGML v1.0//EN
BEGIN:VEVENT
SUMMARY:FINALES COUPES DES ARDENNES A MONTCY
UID:f9845fee-0f77-4b94-b934-f479f4988e67
DTSTART:20260430T180000Z
DTEND:20260430T210000Z
LOCATION:Localisation   
CATEGORIES:Sportif
STATUS:
URL;VALUE=URI:https://ppcmontcy.sportsregions.fr/evenements/2026/04/30/finales-coupes-des-ardennes-a-montcy-2442738
END:VEVENT
END:VCALENDAR
