BEGIN:VCALENDAR
VERSION:2.0
PRODID:-//hacksw/handcal//NONSGML v1.0//EN
BEGIN:VEVENT
SUMMARY:FINALES REGIONALES CLASSEMENT
UID:29eecddb-83ae-44ba-b0ee-89523d2857d8
DTSTART:20260425T220000Z
DTEND:20260426T220000Z
LOCATION:Localisation  57380 FAULQUEMONT
CATEGORIES:Sportif
STATUS:
URL;VALUE=URI:https://ppcmontcy.sportsregions.fr/evenements/2026/04/26/finales-regionales-classement-2442737
END:VEVENT
END:VCALENDAR
