BEGIN:VCALENDAR
VERSION:2.0
PRODID:-//hacksw/handcal//NONSGML v1.0//EN
BEGIN:VEVENT
SUMMARY:STAGE PERFECTIONNEMENT JEUNES A MONTCY
UID:7168e156-3ec7-4905-b7b9-c873af7ce158
DTSTART:20260420T070000Z
DTEND:20260422T140000Z
LOCATION:Localisation   
CATEGORIES:Sportif
STATUS:
URL;VALUE=URI:https://ppcmontcy.sportsregions.fr/evenements/2026/04/20/stage-perfectionnement-jeunes-a-montcy-2442736
END:VEVENT
END:VCALENDAR
