BEGIN:VCALENDAR
VERSION:2.0
PRODID:-//hacksw/handcal//NONSGML v1.0//EN
BEGIN:VEVENT
SUMMARY:J4-D2A-PPCM 3 / NEUVILLOIS 3
UID:7610390c-d123-4d45-aaae-f3acbf8bddbe
DTSTART:20260410T180000Z
DTEND:20260410T214500Z
LOCATION:Localisation   
CATEGORIES:Sportif
STATUS:
URL;VALUE=URI:https://ppcmontcy.sportsregions.fr/evenements/2026/04/10/j4-d2a-ppcm-3-neuvillois-3-2438239
END:VEVENT
END:VCALENDAR
